BEGIN:VCALENDAR
VERSION:2.0
PRODID:-//Museum of Fine Arts, St. Petersburg - ECPv6.15.20//NONSGML v1.0//EN
CALSCALE:GREGORIAN
METHOD:PUBLISH
X-WR-CALNAME:Museum of Fine Arts, St. Petersburg
X-ORIGINAL-URL:https://mfastpete.org
X-WR-CALDESC:Events for Museum of Fine Arts, St. Petersburg
REFRESH-INTERVAL;VALUE=DURATION:PT1H
X-Robots-Tag:noindex
X-PUBLISHED-TTL:PT1H
BEGIN:VTIMEZONE
TZID:America/New_York
BEGIN:DAYLIGHT
TZOFFSETFROM:-0500
TZOFFSETTO:-0400
TZNAME:EDT
DTSTART:20240310T070000
END:DAYLIGHT
BEGIN:STANDARD
TZOFFSETFROM:-0400
TZOFFSETTO:-0500
TZNAME:EST
DTSTART:20241103T060000
END:STANDARD
BEGIN:DAYLIGHT
TZOFFSETFROM:-0500
TZOFFSETTO:-0400
TZNAME:EDT
DTSTART:20250309T070000
END:DAYLIGHT
BEGIN:STANDARD
TZOFFSETFROM:-0400
TZOFFSETTO:-0500
TZNAME:EST
DTSTART:20251102T060000
END:STANDARD
BEGIN:DAYLIGHT
TZOFFSETFROM:-0500
TZOFFSETTO:-0400
TZNAME:EDT
DTSTART:20260308T070000
END:DAYLIGHT
BEGIN:STANDARD
TZOFFSETFROM:-0400
TZOFFSETTO:-0500
TZNAME:EST
DTSTART:20261101T060000
END:STANDARD
END:VTIMEZONE
BEGIN:VEVENT
DTSTART;TZID=America/New_York:20250921T130000
DTEND;TZID=America/New_York:20250921T140000
DTSTAMP:20260423T135842
CREATED:20250605T190521Z
LAST-MODIFIED:20250605T190521Z
UID:10000440-1758459600-1758463200@mfastpete.org
SUMMARY:In Conversation | Nina Yankowitz and Katherine Pill
DESCRIPTION:In Conversation | Nina Yankowitz and Katherine Pill\nDon’t miss this last chance to experience the special exhibition Nina Yankowitz | In the Out / Out the In and hear from Nina Yankowitz herself. In conversation with the MFA’s Senior Curator of Contemporary Art\, Katherine Pill\, Yankowitz will discuss her groundbreaking\, six-decade career and the behind-the-scenes making of this landmark retrospective.\n\nThroughout her career\, Yankowitz has consistently challenged the boundaries of medium\, perception\, and accessibility. This talk will delve into key moments in her practice\, including her role in the Heresies Collective\, her commitment to women-centered narratives\, and her fearless experiments with form and media.\n\nTogether\, Yankowitz and Pill will explore the exhibition’s themes\, offering personal insights and stories that bring new depth to the works on view.\n\nIn Conversation | Nina Yankowitz and Katherine Pill \nSunday\, September 21\, 2025\n1:00 PM–2:00 PM\nMuseum of Fine Arts\, St. Petersburg\n255 Beach Drive NE\, St. Petersburg FL 33701 \nFree with cost of admission \nGET TICKETS \nNot yet a member?\nBecome a member today and enjoy all the benefits membership at the MFA offers!  \nMFA Members enjoy free admission for an entire year\, early access to special exhibitions\, discounts at the MFA Shop and Café Clementine\, special member-only exclusive events\, and more. Bring the whole family! \nBECOME A MEMBER \n\nABOUT NINA YANKOWITZ \nThroughout a career spanning six decades\, Nina Yankowitz (American\, b. 1946) has created a multidisciplinary practice that defies singular definition. Her work pushes against traditional boundaries: her paintings have resisted not just frames\, but seemingly gravity; her abstract compositions have gone beyond the canvas to embrace the aural. Most recently\, Yankowitz has deepened her interest in technology and new media to create immersive environments that spotlight women-centered histories that have gone unknown for far too long. \nNina Yankowitz was born and raised in New Jersey and lives between New York City and Sag Harbor. Her works are in public collections\, including the Fine Arts Museum of San Francisco\, San Francisco\, CA; Virginia Museum of History & Culture\, Richmond\, VA; and the Smith College Museum of Art\, Northampton\, MA. Her archival materials are found in the Archives of American Art\, Smithsonian Institution\, Washington\, D.C. Her 2022 solo exhibition at Eric Firestone Gallery garnered reviews in Artforum and Art in America\, and in 2024 she was inducted into the New York Foundation for the Arts’ Hall of Fame. \nImages: \nNina Yankowitz\, Ms. Majesty\, 1970-71\, Acrylic compressor spray on canvas run through pleating machine. Courtesy of the Artist and Eric Firestone Gallery\, New York\, NY.
URL:https://mfastpete.org/event/in-conversation-nina-yankowitz-and-katherine-pill/
LOCATION:Museum of Fine Arts\, St. Petersburg\, 255 Beach Drive NE\, St. Petersburg\, FL\, 33701\, United States
CATEGORIES:Artful Conversation,FREE for MFA Members
ATTACH;FMTTYPE=image/png:https://mfastpete.org/wp-content/uploads/2025/05/Untitled-1024-x-576-px-1-copy-2.png
END:VEVENT
BEGIN:VEVENT
DTSTART;TZID=America/New_York:20250921T140000
DTEND;TZID=America/New_York:20250921T150000
DTSTAMP:20260423T135842
CREATED:20250701T021948Z
LAST-MODIFIED:20250707T181516Z
UID:10000454-1758463200-1758466800@mfastpete.org
SUMMARY:Language Tour Series | Russian-Speaking Tour with Natalie Velez
DESCRIPTION:Русский: Приглашаем вас в Музей Изобразительных Искусств (MFA) на новую серию экскурсий на иностранных языках! Каждое третье воскресенье месяца в 14:00 экскурсовод музея проводит обзорную экскурсию на языке\, отличном от английского. Эти экскурсии — прекрасная возможность: ближе познакомиться с коллекцией музея\, встретить единомышленников\, улучшить знание изучаемого вами языка. \nУчастие в экскурсии включено в стоимость входного билета\, но предварительная регистрация обязательна\, так как количество мест ограничено. \nЗаинтересованы в экскурсии\, но не можете прийти в эту дату? Музей изобразительных искусств (MFA) также предлагает экскурсии на русском\, испанском\, португальском и немецком языках по запросу. По всем вопросам и для записи пишите нам на: tours@mfastpete.org. \nEnglish: Join us every third Sunday at 2 pm for the MFA’s Language Tour Series! Each month\, an MFA Docent will guide a tour in a language other than English\, offering visitors a fresh and immersive way to explore the museum’s collection. Whether you’re fluent\, practicing your language skills\, or just beginning your journey\, these tours offer a welcoming space to connect through art and culture. \nDocent-led Language Tours are free with museum admission\, but advance registration is recommended so our docents can plan for group size. Space is limited—reserve your spot today! \nInterested in a tour but can’t attend on this date? The MFA also offers docent-led tours in Russian\, Spanish\, Portuguese\, and German by request. Email us at tours@mfastpete.org to learn more. \nLanguage Tour Series | Russian-Speaking Tour with Natalie Velez\nSunday\, September 21\, 2025\n2:00 PM–3:00 PM\nMuseum of Fine Arts\, St. Petersburg\n255 Beach Drive NE\, St. Petersburg FL 33701 \nFREE for MFA Members; Included with the cost of admission for Not-Yet Members\nRegistration required. \nREGISTER \nCheck out the full Language Tour schedule here to find upcoming tours in your preferred language. \nNot yet a member?\nBecome a member today and enjoy all the benefits membership at the MFA offers!  \nMFA Members enjoy free admission for an entire year\, early access to special exhibitions\, discounts at the MFA Shop and Café Clementine\, special member-only exclusive events\, and more. Bring the whole family! \nBECOME A MEMBER \n\nABOUT NATALIE VELEZ/О НАТАЛИ ВЕЛЕЗ \n\n\nEnglish: In 2009\, Natalie Velez moved from St. Petersburg\, Russia to St. Petersburg\, Florida. Natalie credits her  relocation for opening a new world for her: that of American contemporary art and how it can alter the ways in  which we visualize and conceptualize the world.  \nNatalie earned her B.A. and M.A. degrees from the State University for Culture and Arts in St. Petersburg\,  Russia. She is currently pursuing her Ph.D. in philosophy and aesthetics in visual art from the Institute for  Doctoral Studies in the Visual Arts\, headquartered in Maine (IDSVA). In her research\, she explores the  intersection of politics and cross-cultural art collaborations.  \nNatalie’s professional experience includes working as an international education and business consultant\,  art gallery owner\, and educator of arts and philosophy. She presented her work on the relations of arts\,  aesthetics\, and philosophy during her residences in Mexico and Italy\, as well as at institutions such as the  University of Tampa\, Eckerd College\, and the Museum of Fine Arts.   \n\n\nРусский: Натали Велез переехала в Санкт-Петербург\, Флорида\, из Санкт-Петербурга\, Россия\, в 2009 году. Она получила степени бакалавра и магистра в Санкт-Петербургском государственном институте культуры. \nВ настоящее время Натали работает над кандидатской диссертацией по философии и эстетике изобразительного искусства в Институте докторских исследований в области визуальных искусств (IDSVA)\, расположенном в штате Мэн. Её исследование сосредоточено на пересечении политики и межкультурных художественных коллабораций. \nНатали является консультантом по международному образованию и бизнесу\, владеет галереей и активно занимается образовательной деятельностью в области искусства и философии. Она представляла свои работы\, посвящённые связям между искусством\, эстетикой и философией\, во время своих резиденций в Мексике и Италии\, а также в таких образовательных и культурных учреждениях\, как Университет Тампы\, Колледж Эккерд и Музей Изобразительных Искусств (MFA).
URL:https://mfastpete.org/event/russian-speaking-tour-9-21-25/
LOCATION:Museum of Fine Arts\, St. Petersburg\, 255 Beach Drive NE\, St. Petersburg\, FL\, 33701\, United States
CATEGORIES:Adult Program,FREE for MFA Members
ATTACH;FMTTYPE=image/jpeg:https://mfastpete.org/wp-content/uploads/2025/06/Speaking-Tour_Natalie-.jpg
END:VEVENT
END:VCALENDAR