BEGIN:VCALENDAR
VERSION:2.0
PRODID:-//Museum of Fine Arts, St. Petersburg - ECPv6.15.20//NONSGML v1.0//EN
CALSCALE:GREGORIAN
METHOD:PUBLISH
X-ORIGINAL-URL:https://mfastpete.org
X-WR-CALDESC:Events for Museum of Fine Arts, St. Petersburg
REFRESH-INTERVAL;VALUE=DURATION:PT1H
X-Robots-Tag:noindex
X-PUBLISHED-TTL:PT1H
BEGIN:VTIMEZONE
TZID:America/New_York
BEGIN:DAYLIGHT
TZOFFSETFROM:-0500
TZOFFSETTO:-0400
TZNAME:EDT
DTSTART:20240310T070000
END:DAYLIGHT
BEGIN:STANDARD
TZOFFSETFROM:-0400
TZOFFSETTO:-0500
TZNAME:EST
DTSTART:20241103T060000
END:STANDARD
BEGIN:DAYLIGHT
TZOFFSETFROM:-0500
TZOFFSETTO:-0400
TZNAME:EDT
DTSTART:20250309T070000
END:DAYLIGHT
BEGIN:STANDARD
TZOFFSETFROM:-0400
TZOFFSETTO:-0500
TZNAME:EST
DTSTART:20251102T060000
END:STANDARD
BEGIN:DAYLIGHT
TZOFFSETFROM:-0500
TZOFFSETTO:-0400
TZNAME:EDT
DTSTART:20260308T070000
END:DAYLIGHT
BEGIN:STANDARD
TZOFFSETFROM:-0400
TZOFFSETTO:-0500
TZNAME:EST
DTSTART:20261101T060000
END:STANDARD
END:VTIMEZONE
BEGIN:VEVENT
DTSTART;TZID=America/New_York:20251019T140000
DTEND;TZID=America/New_York:20251019T150000
DTSTAMP:20260419T105013
CREATED:20250701T021936Z
LAST-MODIFIED:20250707T181601Z
UID:10000456-1760882400-1760886000@mfastpete.org
SUMMARY:Language Tour Series | German-Speaking Tour with Anita Birrer
DESCRIPTION:Deutsch: Schließen Sie sich uns jeden dritten Sonntag um 14 Uhr im MFA für unsere neuen Sprachrundgänge an! Jeden Monat wird ein MFA-Museumsführer einen Rundgang in einer anderen Sprache als Englisch leiten und so eine einzigartige Möglichkeit bieten\, die Sammlung des Museums zu erleben. Egal\, ob Sie die Sprache fließend beherrschen\, Ihre Fähigkeiten üben möchten oder eine kunstvolle Möglichkeit suchen\, mit dem Lernen zu beginnen – diese Rundgänge sind eine großartige Gelegenheit\, sich durch Kunst und Kultur mit anderen zu verbinden! \nDiese öffentlichen\, von Museumsführern geleiteten Rundgänge sind im Eintrittspreis inbegriffen\, aber eine vorherige Anmeldung wird empfohlen\, damit die Führer wissen\, wie viele Teilnehmer sie während ihres Rundganges erwarten können. Die Plätze sind begrenzt – melden Sie sich noch heute an! \nKönnen Sie an diesem Datum nicht teilnehmen\, sind aber daran interessiert\, eine von einem Führer geleiteten Rundgang in einer anderen Sprache als Englisch zu buchen? Das MFA bietet derzeit Rundgänge in Russisch\, Spanisch\, Portugiesisch und Deutsch an! Bitte senden Sie uns eine E-Mail an tours@mfastpete.org\, um mehr zu erfahren. \nEnglish: Join us every third Sunday at 2 pm for the MFA’s Language Tour Series! Each month\, an MFA Docent will guide a tour in a language other than English\, offering visitors a fresh and immersive way to explore the museum’s collection. Whether you’re fluent\, practicing your language skills\, or just beginning your journey\, these tours offer a welcoming space to connect through art and culture. \nDocent-led Language Tours are free with museum admission\, but advance registration is recommended so our docents can plan for group size. Space is limited—reserve your spot today! \nInterested in a tour but can’t attend on this date? The MFA also offers docent-led tours in Russian\, Spanish\, Portuguese\, and German by request. Email us at tours@mfastpete.org to learn more. \n\n\n\n\n\n\n\nLanguage Tour Series | German-Speaking Tour with Anita Birrer\nSunday\, October 19\, 2025\n2:00 PM–3:00 PM\nMuseum of Fine Arts\, St. Petersburg\n255 Beach Drive NE\, St. Petersburg FL 33701 \nFREE for MFA Members; Included with the cost of admission for Not-Yet Members\nRegistration required. \nREGISTER \nCheck out the full Language Tour schedule here to find upcoming tours in your preferred language. \nNot yet a member?\nBecome a member today and enjoy all the benefits membership at the MFA offers!  \nMFA Members enjoy free admission for an entire year\, early access to special exhibitions\, discounts at the MFA Shop and Café Clementine\, special member-only exclusive events\, and more. Bring the whole family! \nBECOME A MEMBER \n\nABOUT ANITA BIRRER/ÜBER ANITA BIRRER \n\n\nEnglish: My name is Anita Birrer\, and I successfully graduated from the MFA Docent Training Program on May 7\, 2022. As part of my commitment to the docent program\, I serve as a gallery guide on select Friday afternoons. \nI am a native Swiss\, born and raised in Luzern\, located in the German-speaking region of Switzerland. In everyday life\, we primarily speak Swiss German (Schweizerdeutsch)\, a collection of Alemannic dialects that vary by region. While Swiss German is used in daily conversation\, Standard German (Hochdeutsch) is employed in formal settings such as education\, media\, and written communication. Due to notable differences in pronunciation\, vocabulary\, and grammar\, Swiss German can be difficult for non-native speakers to understand—therefore\, I will be leading the German tours at the MFA in Standard German. \nI am a Swiss Federally Certified Adult Educator and have taught Swiss culture and Standard German to expatriates working for Swiss companies. I am well-traveled and fluent in English as well. \n\n\nDeutsch: Mein Name ist Anita Birrer. Ich bin Schweizerin\, in Luzern geboren und aufgewachsen. Ich spreche Schweizerdeutsch und Hochdeutsch (Muttersprache)\, Englisch und Französisch. Ich bin eidg. diplomierte Ausbilderin und habe in dieser Rolle während über 25 Jahren fremd- und deutschsprachige Menschen in der Schweiz im Umgang mit der Schweizer Kultur und der deutschen Sprache beraten\, ausgebildet und gefördert. \nIm Mai 2022 habe ich die Ausbildung zur MFA-Museumsführerin erfolgreich abgeschlossen. \nIn dieser Rolle interagiere ich jeden Freitagnachmittag mit Museumsbesuchern aller Altersgruppen\, Fähigkeiten und Hintergründe durch lebhafte\, anregende und unterhaltsame Gespräche über unsere ausgestellten Kunstwerke in den Galerien.
URL:https://mfastpete.org/event/german-speaking-tour-10-19-25/
LOCATION:Museum of Fine Arts\, St. Petersburg\, 255 Beach Drive NE\, St. Petersburg\, FL\, 33701\, United States
CATEGORIES:Adult Program,FREE for MFA Members
ATTACH;FMTTYPE=image/jpeg:https://mfastpete.org/wp-content/uploads/2025/06/Speaking-Tour_Anita-.jpg
END:VEVENT
END:VCALENDAR