BEGIN:VCALENDAR
VERSION:2.0
PRODID:-//Museum of Fine Arts, St. Petersburg - ECPv6.15.20//NONSGML v1.0//EN
CALSCALE:GREGORIAN
METHOD:PUBLISH
X-WR-CALNAME:Museum of Fine Arts, St. Petersburg
X-ORIGINAL-URL:https://mfastpete.org
X-WR-CALDESC:Events for Museum of Fine Arts, St. Petersburg
REFRESH-INTERVAL;VALUE=DURATION:PT1H
X-Robots-Tag:noindex
X-PUBLISHED-TTL:PT1H
BEGIN:VTIMEZONE
TZID:America/New_York
BEGIN:DAYLIGHT
TZOFFSETFROM:-0500
TZOFFSETTO:-0400
TZNAME:EDT
DTSTART:20240310T070000
END:DAYLIGHT
BEGIN:STANDARD
TZOFFSETFROM:-0400
TZOFFSETTO:-0500
TZNAME:EST
DTSTART:20241103T060000
END:STANDARD
BEGIN:DAYLIGHT
TZOFFSETFROM:-0500
TZOFFSETTO:-0400
TZNAME:EDT
DTSTART:20250309T070000
END:DAYLIGHT
BEGIN:STANDARD
TZOFFSETFROM:-0400
TZOFFSETTO:-0500
TZNAME:EST
DTSTART:20251102T060000
END:STANDARD
BEGIN:DAYLIGHT
TZOFFSETFROM:-0500
TZOFFSETTO:-0400
TZNAME:EDT
DTSTART:20260308T070000
END:DAYLIGHT
BEGIN:STANDARD
TZOFFSETFROM:-0400
TZOFFSETTO:-0500
TZNAME:EST
DTSTART:20261101T060000
END:STANDARD
END:VTIMEZONE
BEGIN:VEVENT
DTSTART;TZID=America/New_York:20251008T100000
DTEND;TZID=America/New_York:20251008T120000
DTSTAMP:20260419T133410
CREATED:20250424T013447Z
LAST-MODIFIED:20250915T004053Z
UID:10000413-1759917600-1759924800@mfastpete.org
SUMMARY:Homeschool Hours
DESCRIPTION:Homeschool groups and families are invited to join us as we look at the culture\, history\, math\, and science of art! Every month we will explore a new idea or special exhibition through hands-on fun. All Ages Welcome; Geared Towards Ages 5-14. \nThis month\, we will focus on artists and their paintings from the Impressionist movement. Learn about Claude Monet\, Berthe Morisot\, and Mary Cassat in the European galleries inside the MFA Permanent Collection. Then become an impressionist artist yourself through painting!  \n  \n\nHomeschool Hours at the MFA\nWednesday\, October 8\, 2025\n10:00 am–12:00 pm\nFREE for MFA Members; Included with the cost of admission for Not-Yet Members\nRegistration required. \nREGISTER FOR HOMESCHOOL HOURS \n\n\n\n\n\n\n\n\n\n\n  \nNot yet a member? Become a member today and enjoy all the benefits membership at the MFA offers! MFA Members enjoy free admission for an entire year\, early access to special exhibitions\, discounts at the MFA Shop and Café Clementine\, special member-only exclusive events\, and more. Bring the whole family! \nBecome a Member \n\n 
URL:https://mfastpete.org/event/homeschool-hours-10-8-25/
LOCATION:Museum of Fine Arts\, St. Petersburg\, 255 Beach Drive NE\, St. Petersburg\, FL\, 33701\, United States
CATEGORIES:Educational Event,FREE for MFA Members,Homeschool Hours,Youth and Family Event
ATTACH;FMTTYPE=image/png:https://mfastpete.org/wp-content/uploads/2025/04/HSH-Updated.png
END:VEVENT
BEGIN:VEVENT
DTSTART;TZID=America/New_York:20251011T090000
DTEND;TZID=America/New_York:20251011T110000
DTSTAMP:20260419T133410
CREATED:20250606T173850Z
LAST-MODIFIED:20250608T021207Z
UID:10000444-1760173200-1760180400@mfastpete.org
SUMMARY:Studio Saturdays at the MFA
DESCRIPTION:Please join the Museum of Fine Arts every second Saturday of each month for a free artmaking activity! The MFA will host a casual pop-up studio station in the Mary Alice McClendon Conservatory to make art to take home and to interact with members of your community. Enjoy Café Clementine while you make some art or browse the MFA Shop for art-centric books\, gifts\, and art supplies to take more art home with you.   \nIn the height of the autumn season\, this month’s free art activity at the MFA will explore classic iconography\, images\, and art we associate with the season (even in Florida!)  \n  \n\nStudio Saturdays at the MFA\nSaturday\, October 11\, 2025\n9:00 AM–11:00 AM\nFREE FOR EVERYONE! The entire program takes place in the Mary Alice McClendon Conservatory\, right next to Café Clementine—where MFA Members enjoy 15% off. \n\n\n\n\n\n\n\n\n\n\n  \nNot yet a member? Become a member today and enjoy all the benefits membership at the MFA offers! MFA Members enjoy free admission for an entire year\, early access to special exhibitions\, discounts at the MFA Shop and Café Clementine\, special member-only exclusive events\, and more. Bring the whole family! \nBecome a Member \n\n 
URL:https://mfastpete.org/event/studio-saturdays-at-the-mfa-10-11-25/
LOCATION:Museum of Fine Arts\, St. Petersburg\, 255 Beach Drive NE\, St. Petersburg\, FL\, 33701\, United States
CATEGORIES:Educational Event,FREE for MFA Members,FREE for Pinellas County Residents,Youth and Family Event
ATTACH;FMTTYPE=image/png:https://mfastpete.org/wp-content/uploads/2025/06/saturday-studio.png
END:VEVENT
END:VCALENDAR