BEGIN:VCALENDAR
VERSION:2.0
PRODID:-//Museum of Fine Arts, St. Petersburg - ECPv6.15.20//NONSGML v1.0//EN
CALSCALE:GREGORIAN
METHOD:PUBLISH
X-ORIGINAL-URL:https://mfastpete.org
X-WR-CALDESC:Events for Museum of Fine Arts, St. Petersburg
REFRESH-INTERVAL;VALUE=DURATION:PT1H
X-Robots-Tag:noindex
X-PUBLISHED-TTL:PT1H
BEGIN:VTIMEZONE
TZID:America/New_York
BEGIN:DAYLIGHT
TZOFFSETFROM:-0500
TZOFFSETTO:-0400
TZNAME:EDT
DTSTART:20250309T070000
END:DAYLIGHT
BEGIN:STANDARD
TZOFFSETFROM:-0400
TZOFFSETTO:-0500
TZNAME:EST
DTSTART:20251102T060000
END:STANDARD
BEGIN:DAYLIGHT
TZOFFSETFROM:-0500
TZOFFSETTO:-0400
TZNAME:EDT
DTSTART:20260308T070000
END:DAYLIGHT
BEGIN:STANDARD
TZOFFSETFROM:-0400
TZOFFSETTO:-0500
TZNAME:EST
DTSTART:20261101T060000
END:STANDARD
BEGIN:DAYLIGHT
TZOFFSETFROM:-0500
TZOFFSETTO:-0400
TZNAME:EDT
DTSTART:20270314T070000
END:DAYLIGHT
BEGIN:STANDARD
TZOFFSETFROM:-0400
TZOFFSETTO:-0500
TZNAME:EST
DTSTART:20271107T060000
END:STANDARD
END:VTIMEZONE
BEGIN:VEVENT
DTSTART;TZID=America/New_York:20260610T100000
DTEND;TZID=America/New_York:20260610T120000
DTSTAMP:20260421T100349
CREATED:20260414T023056Z
LAST-MODIFIED:20260414T023056Z
UID:10000613-1781085600-1781092800@mfastpete.org
SUMMARY:Homeschool Hours
DESCRIPTION:Homeschool groups and families are invited to join us as we look at the culture\, history\, math\, and science of art! Every month we will explore a new idea or special exhibition through hands-on fun. All Ages Welcome; Geared Towards Ages 5-14. \nYou won’t believe how many animals you can find inside the galleries of the MFA’s permanent collection! Join us this month in learning about the importance and reasoning behind certain animals in art history. You’ll have the chance to create art centered around your favorite animal too! \nHomeschool Hours at the MFA\nWednesday\, June 10\, 2026\n10:00 AM–12:00 PM\nFREE for MFA Members; Included with the cost of admission for Not-Yet Members\nRegistration required. \nREGISTER FOR HOMESCHOOL HOURS \n\n\n\n\n\n\n\n\n\n\nNot yet a member? Become a member today and enjoy all the benefits membership at the MFA offers! MFA Members enjoy free admission for an entire year\, early access to special exhibitions\, discounts at the MFA Shop and Café Clementine\, special member-only exclusive events\, and more. Bring the whole family! \nBecome a Member \n\n 
URL:https://mfastpete.org/event/homeschool-hours-6-10-26/
LOCATION:Museum of Fine Arts\, St. Petersburg\, 255 Beach Drive NE\, St. Petersburg\, FL\, 33701\, United States
CATEGORIES:Educational Event,FREE for MFA Members,Homeschool Hours,Youth and Family Event
ATTACH;FMTTYPE=image/jpeg:https://mfastpete.org/wp-content/uploads/2025/10/HSH-Mar-26.jpg
END:VEVENT
BEGIN:VEVENT
DTSTART;TZID=America/New_York:20260708T100000
DTEND;TZID=America/New_York:20260708T120000
DTSTAMP:20260421T100349
CREATED:20260420T022202Z
LAST-MODIFIED:20260420T022202Z
UID:10000617-1783504800-1783512000@mfastpete.org
SUMMARY:Homeschool Hours | Yvette Mayorga and The Magic Grasshopper
DESCRIPTION:Please join the Museum of Fine Arts every second Wednesday of each month for learning\, art making\, and connections made with other members of the homeschool community in the Tampa Bay region. \nInspired by Yvette Mayorga’s Magic Grasshopper\, participants in this month’s Homeschool Hours will make their own mini and magical form of transportation using recycled materials. Bring your imagination and willingness to use new materials! \nHomeschool Hours at the MFA\nWednesday\, July 8\, 2026\n10:00 AM–12:00 PM\nFREE for MFA Members; Included with the cost of admission for Not-Yet Members\nRegistration required. \nREGISTER FOR HOMESCHOOL HOURS \n\n\n\n\n\n\n\n\n\n\nNot yet a member? Become a member today and enjoy all the benefits membership at the MFA offers! MFA Members enjoy free admission for an entire year\, early access to special exhibitions\, discounts at the MFA Shop and Café Clementine\, special member-only exclusive events\, and more. Bring the whole family! \nBecome a Member \n\n 
URL:https://mfastpete.org/event/homeschool-hours-7-8-26/
LOCATION:Museum of Fine Arts\, St. Petersburg\, 255 Beach Drive NE\, St. Petersburg\, FL\, 33701\, United States
CATEGORIES:Educational Event,FREE for MFA Members,Homeschool Hours,Youth and Family Event
ATTACH;FMTTYPE=image/jpeg:https://mfastpete.org/wp-content/uploads/2026/04/HSH_July26.jpg
END:VEVENT
BEGIN:VEVENT
DTSTART;TZID=America/New_York:20260812T100000
DTEND;TZID=America/New_York:20260812T120000
DTSTAMP:20260421T100349
CREATED:20260420T023327Z
LAST-MODIFIED:20260420T023327Z
UID:10000618-1786528800-1786536000@mfastpete.org
SUMMARY:Homeschool Hours | Fun in the Sun
DESCRIPTION:Please join the Museum of Fine Arts every second Wednesday of each month for learning\, art making\, and connections made with other members of the homeschool community in the Tampa Bay region. \nMake art with the MFA while the sun is shining! This session of Homeschool Hours features sun-inspired projects\, including suncatchers\, sun prints\, and jewelry using UV-reactive materials. Explore the permanent collection and discover artworks that reference the sun with an in-gallery activity guide. \nHomeschool Hours at the MFA\nWednesday\, August 12\, 2026\n10:00 AM–12:00 PM\nFREE for MFA Members; Included with the cost of admission for Not-Yet Members\nRegistration required. \nREGISTER FOR HOMESCHOOL HOURS \n\n\n\n\n\n\n\n\n\n\nNot yet a member? Become a member today and enjoy all the benefits membership at the MFA offers! MFA Members enjoy free admission for an entire year\, early access to special exhibitions\, discounts at the MFA Shop and Café Clementine\, special member-only exclusive events\, and more. Bring the whole family! \nBecome a Member \n\n 
URL:https://mfastpete.org/event/homeschool-hours-8-12-26/
LOCATION:Museum of Fine Arts\, St. Petersburg\, 255 Beach Drive NE\, St. Petersburg\, FL\, 33701\, United States
CATEGORIES:Educational Event,FREE for MFA Members,Homeschool Hours,Youth and Family Event
ATTACH;FMTTYPE=image/jpeg:https://mfastpete.org/wp-content/uploads/2026/04/HSH_Aug.jpg
END:VEVENT
END:VCALENDAR