BEGIN:VCALENDAR
VERSION:2.0
PRODID:-//Museum of Fine Arts, St. Petersburg - ECPv6.15.20//NONSGML v1.0//EN
CALSCALE:GREGORIAN
METHOD:PUBLISH
X-ORIGINAL-URL:https://mfastpete.org
X-WR-CALDESC:Events for Museum of Fine Arts, St. Petersburg
REFRESH-INTERVAL;VALUE=DURATION:PT1H
X-Robots-Tag:noindex
X-PUBLISHED-TTL:PT1H
BEGIN:VTIMEZONE
TZID:America/New_York
BEGIN:DAYLIGHT
TZOFFSETFROM:-0500
TZOFFSETTO:-0400
TZNAME:EDT
DTSTART:20240310T070000
END:DAYLIGHT
BEGIN:STANDARD
TZOFFSETFROM:-0400
TZOFFSETTO:-0500
TZNAME:EST
DTSTART:20241103T060000
END:STANDARD
BEGIN:DAYLIGHT
TZOFFSETFROM:-0500
TZOFFSETTO:-0400
TZNAME:EDT
DTSTART:20250309T070000
END:DAYLIGHT
BEGIN:STANDARD
TZOFFSETFROM:-0400
TZOFFSETTO:-0500
TZNAME:EST
DTSTART:20251102T060000
END:STANDARD
BEGIN:DAYLIGHT
TZOFFSETFROM:-0500
TZOFFSETTO:-0400
TZNAME:EDT
DTSTART:20260308T070000
END:DAYLIGHT
BEGIN:STANDARD
TZOFFSETFROM:-0400
TZOFFSETTO:-0500
TZNAME:EST
DTSTART:20261101T060000
END:STANDARD
END:VTIMEZONE
BEGIN:VEVENT
DTSTART;TZID=America/New_York:20250212T100000
DTEND;TZID=America/New_York:20250212T120000
DTSTAMP:20260421T081250
CREATED:20250109T130118Z
LAST-MODIFIED:20250111T012402Z
UID:10000352-1739354400-1739361600@mfastpete.org
SUMMARY:Homeschool Hours
DESCRIPTION:Homeschool groups and families are invited to join us as we look at the culture\, history\, math\, and science of art! Every month we will explore a new idea or special exhibition through hands-on fun. All ages are welcomed; program geared towards grades K-6. \nThis month we will be featuring our newly installed Art of the Americas Galleries! Learn about the cultures of ancient Mesoamerica\, explore the geology of jade\, gold\, and obsidian\, discover the history behind one of the world’s oldest known team sports\, and create your own embossed artwork. \n  \n\nHomeschool Hours at the MFA\nFebruary 12\, 2025\n10:00 am–12:00 pm\nFREE for MFA Members; Included with the cost of admission for Not-Yet Members\nRegistration required. \nREGISTER FOR HOMESCHOOL HOURS \n\n\n\n\n\n\n\n\n\n\n  \nNot yet a member? Become a member today and enjoy all the benefits membership at the MFA offers! MFA Members enjoy free admission for an entire year\, early access to special exhibitions\, discounts at the MFA Shop and Café Clementine\, special member-only exclusive events\, and more. Bring the whole family! \nBecome a Member \n\n 
URL:https://mfastpete.org/event/homeschool-hours-2-12-25/
LOCATION:Museum of Fine Arts\, St. Petersburg\, 255 Beach Drive NE\, St. Petersburg\, FL\, 33701\, United States
CATEGORIES:Educational Event,FREE for MFA Members,Homeschool Hours,Youth and Family Event
ATTACH;FMTTYPE=image/png:https://mfastpete.org/wp-content/uploads/2024/09/Homeschool-Hours.png
END:VEVENT
END:VCALENDAR