BEGIN:VCALENDAR
VERSION:2.0
PRODID:-//Museum of Fine Arts, St. Petersburg - ECPv6.15.20//NONSGML v1.0//EN
CALSCALE:GREGORIAN
METHOD:PUBLISH
X-ORIGINAL-URL:https://mfastpete.org
X-WR-CALDESC:Events for Museum of Fine Arts, St. Petersburg
REFRESH-INTERVAL;VALUE=DURATION:PT1H
X-Robots-Tag:noindex
X-PUBLISHED-TTL:PT1H
BEGIN:VTIMEZONE
TZID:America/New_York
BEGIN:DAYLIGHT
TZOFFSETFROM:-0500
TZOFFSETTO:-0400
TZNAME:EDT
DTSTART:20240310T070000
END:DAYLIGHT
BEGIN:STANDARD
TZOFFSETFROM:-0400
TZOFFSETTO:-0500
TZNAME:EST
DTSTART:20241103T060000
END:STANDARD
BEGIN:DAYLIGHT
TZOFFSETFROM:-0500
TZOFFSETTO:-0400
TZNAME:EDT
DTSTART:20250309T070000
END:DAYLIGHT
BEGIN:STANDARD
TZOFFSETFROM:-0400
TZOFFSETTO:-0500
TZNAME:EST
DTSTART:20251102T060000
END:STANDARD
BEGIN:DAYLIGHT
TZOFFSETFROM:-0500
TZOFFSETTO:-0400
TZNAME:EDT
DTSTART:20260308T070000
END:DAYLIGHT
BEGIN:STANDARD
TZOFFSETFROM:-0400
TZOFFSETTO:-0500
TZNAME:EST
DTSTART:20261101T060000
END:STANDARD
END:VTIMEZONE
BEGIN:VEVENT
DTSTART;TZID=America/New_York:20250820T100000
DTEND;TZID=America/New_York:20250820T110000
DTSTAMP:20260423T091443
CREATED:20250806T191845Z
LAST-MODIFIED:20250807T014017Z
UID:10000482-1755684000-1755687600@mfastpete.org
SUMMARY:Museum Minis with Tombolo Books
DESCRIPTION:Museum Minis with Tombolo Books: “The Iliad” by Jennifer Adams\, Alison Oliver\nMuseum Minis with Tombolo Books invites children ages 0 to 5 years old and their favorite grownups to join us in the galleries every third Wednesday for an art-filled storytime! From shapes to colors and artists to animals\, there is always something fun to discover at the MFA. \nMuseum Minis with Tombolo Books\nWednesday\, August 20\, 2025\n10:00 AM–11:00 AM\nFREE for MFA Members; Included with the cost of admission for Not-Yet Members.\nRegistration required. \nREGISTER FOR MUSEUM MINIS \n\n\n\n\n\n\n\n\n\n\n  \nNot yet a member? Become a member today and enjoy all the benefits membership at the MFA offers! MFA Members enjoy free admission for an entire year\, early access to special exhibitions\, discounts at the MFA Shop and Café Clementine\, special member-only exclusive events\, and more. Bring the whole family! \nBecome a Member \n\nABOUT TOMBOLO BOOKS \nTombolo Books is an independent bookstore dedicated to promoting the value and pleasure of reading throughout St. Petersburg by offering thoughtful inventory curation\, extensive literary knowledge\, and excellent customer service. \n \n  \nABOUT: “The Iliad” by Jennifer Adams\, Alison Oliver \n\nBest Board Books\, 2025 theSkimm Good For You Awards \nBabyLit ® is a fashionable way to introduce your toddler to the world of classic literature. With clever\, simple text by Jennifer Adams\, paired with stylish design and illustrations by Allison Oliver\, these books are a must for every savvy parent’s nursery library. \nThe Iliad: A Greek Mythology Primer exposes little ones to the very basic concepts of Greek Mythology through engaging art that portrays the most famous of the Greek Gods: Zeus and Hera\, Athena\, Hermes\, Aphrodite\, Demeter and Dionysus\, Ares\, Hephaestus\, Poseidon\, Apollo and Artemis.
URL:https://mfastpete.org/event/museum-minis-with-tombolo-books-8-20-25/
LOCATION:Museum of Fine Arts\, St. Petersburg\, 255 Beach Drive NE\, St. Petersburg\, FL\, 33701\, United States
CATEGORIES:Educational Event,FREE for MFA Members,Museum Minis,Youth and Family Event
ATTACH;FMTTYPE=image/png:https://mfastpete.org/wp-content/uploads/2025/08/Museum-Minis-New.png
END:VEVENT
BEGIN:VEVENT
DTSTART;TZID=America/New_York:20250821T170000
DTEND;TZID=America/New_York:20250821T200000
DTSTAMP:20260423T091443
CREATED:20250729T012410Z
LAST-MODIFIED:20250729T012410Z
UID:10000475-1755795600-1755806400@mfastpete.org
SUMMARY:Art After Dark at the MFA
DESCRIPTION:Join us for Art After Dark on select Thursday evenings throughout the year! Enjoy discounted admission and exclusive programming\, including engaging docent-led tours\, thought-provoking lectures\, film screenings\, and more. Explore the galleries after hours\, soak in the distinctive ambiance\, and experience art in a fresh\, captivating way. It’s the perfect night out for everyone to enjoy! Check our Calendar of Events for special programming.\n\n\n\nArt After Dark at the MFA\nThursday\, August 21\, 2025\n5:00 PM–8:00 PM Art After Dark Museum Admission\nMuseum of Fine Arts\, St. Petersburg\n255 Beach Drive NE\, St. Petersburg FL 33701 \nFree for MFA Members; $15 for Not-Yet-Members (Youth 17 and under are Free!) \nGET TICKETS \nNot yet a member?\nBecome a member today and enjoy all the benefits membership at the MFA offers!  \nMFA Members enjoy free admission for an entire year\, early access to special exhibitions\, discounts at the MFA Shop and Café Clementine\, special member-only exclusive events\, and more. Bring the whole family! \nBECOME A MEMBER \n\n 
URL:https://mfastpete.org/event/art-after-dark-at-the-mfa-8-21-25/
LOCATION:Museum of Fine Arts\, St. Petersburg\, 255 Beach Drive NE\, St. Petersburg\, FL\, 33701\, United States
CATEGORIES:Art After Dark,FREE for MFA Members,Reduced Admission
ATTACH;FMTTYPE=image/jpeg:https://mfastpete.org/wp-content/uploads/2024/12/AAD-new.jpg
END:VEVENT
BEGIN:VEVENT
DTSTART;TZID=America/New_York:20250823T100000
DTEND;TZID=America/New_York:20250823T130000
DTSTAMP:20260423T091443
CREATED:20250519T201428Z
LAST-MODIFIED:20250806T161845Z
UID:10000432-1755943200-1755954000@mfastpete.org
SUMMARY:Hand-building Clay with St. Pete Ceramics at the MFA
DESCRIPTION:Unleash your creativity in a hands-on ceramic workshop led by the talented artists of St. Pete Ceramics\, hosted at the Museum of Fine Arts\, St. Petersburg. Designed for adults\, this immersive experience invites participants to explore the art of tile-making and hand-building with clay\, drawing inspiration from Nina Yankowitz’s evocative installation\, “Hell’s Breath – A Vision of the Sounds of Falling.” \nGuided by expert instruction\, you’ll have the opportunity to shape and sculpt your own expressive relief tile—bringing personal narratives and artistic visions to life in clay. Whether you’re a seasoned maker or a curious beginner\, this workshop offers a welcoming space to connect\, create\, and engage with contemporary art in a meaningful way. \nHand-building Clay with St. Pete Ceramics at the MFA \nSaturday\, August 23\, 2025\n10:00 AM–1:00 PM \nMuseum of Fine Arts\, St. Petersburg\n255 Beach Drive NE\, St. Petersburg FL 33701 \n$20 for Members | $30 for Not-Yet-Members. Registration required. \nGET TICKETS \nNot yet a member?\nBecome a member today and enjoy all the benefits membership at the MFA offers!  \nMFA Members enjoy free admission for an entire year\, early access to special exhibitions\, discounts at the MFA Shop and Café Clementine\, special member-only exclusive events\, and more. Bring the whole family! \nBECOME A MEMBER \n\nABOUT NINA YANKOWITZ \nThroughout a career spanning six decades\, Nina Yankowitz (American\, b. 1946) has created a multidisciplinary practice that defies singular definition. Her work pushes against traditional boundaries: her paintings have resisted not just frames\, but seemingly gravity; her abstract compositions have gone beyond the canvas to embrace the aural. Most recently\, Yankowitz has deepened her interest in technology and new media to create immersive environments that spotlight women-centered histories that have gone unknown for far too long. \nNina Yankowitz was born and raised in New Jersey and lives between New York City and Sag Harbor. Her works are in public collections\, including the Fine Arts Museum of San Francisco\, San Francisco\, CA; Virginia Museum of History & Culture\, Richmond\, VA; and the Smith College Museum of Art\, Northampton\, MA. Her archival materials are found in the Archives of American Art\, Smithsonian Institution\, Washington\, D.C. Her 2022 solo exhibition at Eric Firestone Gallery garnered reviews in Artforum and Art in America\, and in 2024 she was inducted into the New York Foundation for the Arts’ Hall of Fame. \nImages: \nNina Yankowitz\, Ms. Majesty\, 1970-71\, Acrylic compressor spray on canvas run through pleating machine. Courtesy of the Artist and Eric Firestone Gallery\, New York\, NY. \nNina Yankowitz\, Dilated Grain Reading: Scanning Reds and Blues\, 1973\, Extruded acrylic and Flashe on linen. Courtesy of the Artist and Eric Firestone Gallery\, New York\, NY.
URL:https://mfastpete.org/event/hand-building-clay-with-st-pete-ceramics-at-the-mfa/
LOCATION:Museum of Fine Arts\, St. Petersburg\, 255 Beach Drive NE\, St. Petersburg\, FL\, 33701\, United States
CATEGORIES:Adult Program,Artful Conversation
ATTACH;FMTTYPE=image/png:https://mfastpete.org/wp-content/uploads/2025/05/Untitled-1024-x-576-px-1-1.png
END:VEVENT
BEGIN:VEVENT
DTSTART;TZID=America/New_York:20250823T110000
DTEND;TZID=America/New_York:20250823T130000
DTSTAMP:20260423T091443
CREATED:20250630T164827Z
LAST-MODIFIED:20250710T203845Z
UID:10000459-1755946800-1755954000@mfastpete.org
SUMMARY:August Arts Passport Book Club | The Argonauts
DESCRIPTION:August Arts Passport Book Club | The Argonauts\nThis August\, the MFA partners with the Arts Passport Book Club and Tombolo Books for a special collaborative edition featuring The Argonauts by Maggie Nelson—a genre-defying meditation on love\, identity\, and queer family-making. Poetic\, raw\, and intellectually bold\, Nelson’s writing offers a powerful lens through which to explore themes of transformation and intimacy. \nOn August 23\, readers are invited to gather at the Museum of Fine Arts\, St. Petersburg for a morning of reflection and dialogue. The program includes a group discussion followed by a docent-led tour of Nina Yankowitz: In the Out/Out the In\, the MFA’s current retrospective of pioneering multimedia artist Nina Yankowitz. This pairing offers an immersive experience that connects literature and visual art through shared questions of form\, identity\, and expression. \nArts Passport members receive a complimentary copy of The Argonauts from Tombolo Books\, along with free admission to the museum. \nAugust Arts Passport Book Club | The Argonauts \nSaturday\, August 23\, 2025\n11:00 AM–1:00 PM \nMuseum of Fine Arts\, St. Petersburg\n255 Beach Drive NE\, St. Petersburg FL 33701 \nREGISTER \n\nABOUT ARTS PASSPORT BOOK CLUB \nThe Tombolo Book Club is hosted by Avery Anderson and Abby Baker. Avery Anderson is a creative leader\, storyteller\, and advocate for the power of arts to connect and inspire. When they’re not championing creative work that matters\, you can find them exploring new ways to engage and unite the arts community. \nAbby Baker is a Tampa native and writer for the Old Northeast Journal\, events editor at The Gabber\, contributor to Watermark\, and a Best of the Bay winner for her Gabber piece on a stolen bucket of vibrators. She’s also the co-managing editor of the Tampa Bay Arts Passport\, where she connects\, writes\, and posts about all the amazing things to see\, do\, audition for\, watch\, and wander around town. She lives in St. Pete with her cat\, Snooki\, and moonlights as a project manager during the week. \nABOUT THE ARGONAUTS BY MAGGIE NELSON \n \nAn intrepid voyage out to the frontiers of the latest thinking about love\, language\, and family \nMaggie Nelson’s The Argonauts is a genre-bending memoir\, a work of “autotheory” offering fresh\, fierce\, and timely thinking about desire\, identity\, and the limitations and possibilities of love and language. It binds an account of Nelson’s relationship with her partner and a journey to and through a pregnancy to a rigorous exploration of sexuality\, gender\, and “family.” An insistence on radical individual freedom and the value of caretaking becomes the rallying cry for this thoughtful\, unabashed\, uncompromising book. \nABOUT TOMBOLO BOOKS \nTombolo Books is an independent bookstore dedicated to promoting the value and pleasure of reading throughout St. Petersburg by offering thoughtful inventory curation\, extensive literary knowledge\, and excellent customer service. \n \n 
URL:https://mfastpete.org/event/august-art-passport-book-club/
LOCATION:Museum of Fine Arts\, St. Petersburg\, 255 Beach Drive NE\, St. Petersburg\, FL\, 33701\, United States
CATEGORIES:Adult Program
ATTACH;FMTTYPE=image/png:https://mfastpete.org/wp-content/uploads/2025/06/Book-Club-Header-01.png
END:VEVENT
END:VCALENDAR