BEGIN:VCALENDAR
VERSION:2.0
PRODID:-//Museum of Fine Arts, St. Petersburg - ECPv6.15.20//NONSGML v1.0//EN
CALSCALE:GREGORIAN
METHOD:PUBLISH
X-WR-CALNAME:Museum of Fine Arts, St. Petersburg
X-ORIGINAL-URL:https://mfastpete.org
X-WR-CALDESC:Events for Museum of Fine Arts, St. Petersburg
REFRESH-INTERVAL;VALUE=DURATION:PT1H
X-Robots-Tag:noindex
X-PUBLISHED-TTL:PT1H
BEGIN:VTIMEZONE
TZID:America/New_York
BEGIN:DAYLIGHT
TZOFFSETFROM:-0500
TZOFFSETTO:-0400
TZNAME:EDT
DTSTART:20240310T070000
END:DAYLIGHT
BEGIN:STANDARD
TZOFFSETFROM:-0400
TZOFFSETTO:-0500
TZNAME:EST
DTSTART:20241103T060000
END:STANDARD
BEGIN:DAYLIGHT
TZOFFSETFROM:-0500
TZOFFSETTO:-0400
TZNAME:EDT
DTSTART:20250309T070000
END:DAYLIGHT
BEGIN:STANDARD
TZOFFSETFROM:-0400
TZOFFSETTO:-0500
TZNAME:EST
DTSTART:20251102T060000
END:STANDARD
BEGIN:DAYLIGHT
TZOFFSETFROM:-0500
TZOFFSETTO:-0400
TZNAME:EDT
DTSTART:20260308T070000
END:DAYLIGHT
BEGIN:STANDARD
TZOFFSETFROM:-0400
TZOFFSETTO:-0500
TZNAME:EST
DTSTART:20261101T060000
END:STANDARD
END:VTIMEZONE
BEGIN:VEVENT
DTSTART;TZID=America/New_York:20251002T170000
DTEND;TZID=America/New_York:20251002T200000
DTSTAMP:20260425T122551
CREATED:20250729T013349Z
LAST-MODIFIED:20250729T013349Z
UID:10000481-1759424400-1759435200@mfastpete.org
SUMMARY:Art After Dark at the MFA
DESCRIPTION:Join us for Art After Dark on select Thursday evenings throughout the year! Enjoy discounted admission and exclusive programming\, including engaging docent-led tours\, thought-provoking lectures\, film screenings\, and more. Explore the galleries after hours\, soak in the distinctive ambiance\, and experience art in a fresh\, captivating way. It’s the perfect night out for everyone to enjoy! Check our Calendar of Events for special programming.\n\n\n\nArt After Dark at the MFA\nThursday\, October 2\, 2025\n5:00 PM–8:00 PM Art After Dark Museum Admission\nMuseum of Fine Arts\, St. Petersburg\n255 Beach Drive NE\, St. Petersburg FL 33701 \nFree for MFA Members; $15 for Not-Yet-Members (Youth 17 and under are Free!) \nGET TICKETS \nNot yet a member?\nBecome a member today and enjoy all the benefits membership at the MFA offers!  \nMFA Members enjoy free admission for an entire year\, early access to special exhibitions\, discounts at the MFA Shop and Café Clementine\, special member-only exclusive events\, and more. Bring the whole family! \nBECOME A MEMBER \n\n 
URL:https://mfastpete.org/event/art-after-dark-at-the-mfa-10-2-25/
LOCATION:Museum of Fine Arts\, St. Petersburg\, 255 Beach Drive NE\, St. Petersburg\, FL\, 33701\, United States
CATEGORIES:Art After Dark,FREE for MFA Members,Reduced Admission
ATTACH;FMTTYPE=image/jpeg:https://mfastpete.org/wp-content/uploads/2024/12/AAD-new.jpg
END:VEVENT
BEGIN:VEVENT
DTSTART;TZID=America/New_York:20251004T100000
DTEND;TZID=America/New_York:20251004T120000
DTSTAMP:20260425T122551
CREATED:20250710T181752Z
LAST-MODIFIED:20250922T205323Z
UID:10000470-1759572000-1759579200@mfastpete.org
SUMMARY:Sensory Saturday | Hands-On with Curious Creations Co.: Spooky Edition
DESCRIPTION:Join us for a boo-tiful morning at the MFA as we welcome families with children with sensory sensitivities to explore the galleries in a calm\, quiet environment. On the first Saturday of every month\, from 10 am to 12 pm\, all rotating audio components in the galleries are turned down or muted to create a more soothing experience. \nFor October\, we’re adding a dash of spooky fun to our Sensory Saturday Hands-On program! Drop by the Membership Garden to enjoy Halloween-inspired sensory play and creative activities using non-toxic\, sensory-friendly materials. Costumes are welcome (but totally optional)! \nThis month’s “Spooky Edition” activities include: \n\nCrafting your own mini witch’s broomstick to practice fine motor skills (take-home art project)\nDecorating mini plastic pumpkins with paint markers (take-home art project)\nWorking together on a collaborative Halloween mural painting\nExploring a spooky slime bin filled with Halloween-themed textures and treasures\n\nAll ages are welcome\, though activities are generally designed for ages 2–10. \nSpots are limited\, so please register in advance and select your preferred time slot. \n  \nSensory Saturday at the MFA | Hands-On with Curious Creations Co.\nSaturday\, October 4\, 2025 \n10:00 AM–12:00 PM \nREGISTER FOR 10:00 AM-11:00 AM \nREGISTER FOR 11:00 AM-12:00 PM \nIf you would like to participate in the hands-on activities\, registration is required at $5 per person. Only register those participating in sensory play. \nAll visitors must also purchase a museum admission ticket to have access to the galleries\,  as the activities will be in our Membership Garden within the museum. MFA Members get free gallery admission. \nMFA ADMISSION \nNot yet a member?\nBecome a member today and enjoy all the benefits membership at the MFA offers!  \nMFA Members enjoy free admission for an entire year\, early access to special exhibitions\, discounts at the MFA Shop and Café Clementine\, special member-only exclusive events\, and more. Bring the whole family! \nBECOME A MEMBER \n\nABOUT CURIOUS CREATIONS CO. \n\n\n\n\n \nAs a mom to two energetic boys\, Celine understands the importance of keeping little hands and minds engaged with fun\, screen-free activities. She began creating sensory bins to encourage her oldest son to explore\, learn\, and play independently—and what started as a simple solution quickly grew into a true passion. \nThrough her business\, Curious Creations Co.\, Celine designs sensory kits\, toys\, and learning materials that spark curiosity and creativity while promoting fine motor skills\, sensory exploration\, and imaginative play. Each item is lovingly handcrafted to bring joy\, learning\, and a little magic into every home. \nWhether you’re enjoying a quiet moment or watching your child dive into a world of discovery\, you can trust that they’re engaged in meaningful\, enriching play. Celine is grateful for every family that makes Curious Creations Co. part of their journey—your support means the world! \n\n \nSensory Saturdays is part of our Picture of Health initiative. Picture of Health is a comprehensive initiative that explores interconnected notions of well-being transcending geographical and temporal boundaries\, leveraging the MFA Collection as a starting point. This program fosters a holistic investigation of health\, encompassing cognitive\, physical\, physiological\, emotional\, civic\, intellectual\, and spiritual dimensions\, all with the aim of nurturing a sense of wellness within our community.
URL:https://mfastpete.org/event/sensory-saturday-10-4-25/
LOCATION:Museum of Fine Arts\, St. Petersburg\, 255 Beach Drive NE\, St. Petersburg\, FL\, 33701\, United States
CATEGORIES:Sensory Saturdays,Youth and Family Event
ATTACH;FMTTYPE=image/png:https://mfastpete.org/wp-content/uploads/2025/07/Subheading-600-x-350-px-1024-x-576-px-1024-x-576-px.png
END:VEVENT
END:VCALENDAR